BEGIN:VCALENDAR
VERSION:2.0
PRODID:-//SWDC - ECPv6.15.17.1//NONSGML v1.0//EN
CALSCALE:GREGORIAN
METHOD:PUBLISH
X-ORIGINAL-URL:https://swdc.govt.nz
X-WR-CALDESC:Events for SWDC
REFRESH-INTERVAL;VALUE=DURATION:PT1H
X-Robots-Tag:noindex
X-PUBLISHED-TTL:PT1H
BEGIN:VTIMEZONE
TZID:Pacific/Auckland
BEGIN:STANDARD
TZOFFSETFROM:+1300
TZOFFSETTO:+1200
TZNAME:NZST
DTSTART:20230401T140000
END:STANDARD
BEGIN:DAYLIGHT
TZOFFSETFROM:+1200
TZOFFSETTO:+1300
TZNAME:NZDT
DTSTART:20230923T140000
END:DAYLIGHT
BEGIN:STANDARD
TZOFFSETFROM:+1300
TZOFFSETTO:+1200
TZNAME:NZST
DTSTART:20240406T140000
END:STANDARD
BEGIN:DAYLIGHT
TZOFFSETFROM:+1200
TZOFFSETTO:+1300
TZNAME:NZDT
DTSTART:20240928T140000
END:DAYLIGHT
BEGIN:STANDARD
TZOFFSETFROM:+1300
TZOFFSETTO:+1200
TZNAME:NZST
DTSTART:20250405T140000
END:STANDARD
BEGIN:DAYLIGHT
TZOFFSETFROM:+1200
TZOFFSETTO:+1300
TZNAME:NZDT
DTSTART:20250927T140000
END:DAYLIGHT
END:VTIMEZONE
BEGIN:VEVENT
DTSTART;TZID=Pacific/Auckland:20241009T130000
DTEND;TZID=Pacific/Auckland:20241009T160000
DTSTAMP:20260423T165112
CREATED:20240813T010601Z
LAST-MODIFIED:20241021T012049Z
UID:63806-1728478800-1728489600@swdc.govt.nz
SUMMARY:Assurance\, Risk and Finance Committee - Community & Youth Grants Consideration - 9 October 2024
DESCRIPTION:This meeting will be held in the Supper Room\, Waihinga Centre\, Martinborough. \nAgenda: Community & Youth Grants consideration\, to allocate funds for 2024/25. \nUpdate 3/10/24:   Please note – There is no public participation at this meeting as we will now only be hearing from applicants.  The ordinary ARF Committee meeting scheduled later in October will include public participation. \nThe meetings will be livestreamed on YouTube Channel\, where possible.
URL:https://swdc.govt.nz/meeting/assurance-risk-and-finance-committee-community-youth-grants-consideration-9-october-2024/
LOCATION:Supper Room\, Waihinga Centre\, Texas Street\, Martinborough
CATEGORIES:Risk & Finance Committee
END:VEVENT
BEGIN:VEVENT
DTSTART;TZID=Pacific/Auckland:20241017T140000
DTEND;TZID=Pacific/Auckland:20241017T170000
DTSTAMP:20260423T165112
CREATED:20231220T012733Z
LAST-MODIFIED:20250219T000536Z
UID:61468-1729173600-1729184400@swdc.govt.nz
SUMMARY:Assurance\, Risk and Finance Committee 17 October 2024
DESCRIPTION:Updated 11/10/24: Due to the large size of the agenda file\, please find this attached at the following link: ARF Agenda Pack_17 October 2024.pdf \nUpdated 03/10/24: The meeting date was changed from 16 October 2024 due to the availability of the Chairperson. \n—————————————————————————————————————————————————– \nThis meeting will be held in the Supper Room\, Waihinga Centre\, Martinborough. \nPublic participation is welcome. If you wish to speak during the public participation session at any meetings\, please phone 06 306 9611 at least 24 hours prior to the meeting or email enquiries@swdc.govt.nz. \nIf you have cold and flu symptoms\, please stay at home. \nThe meetings will be livestreamed on YouTube Channel\, where possible.
URL:https://swdc.govt.nz/meeting/assurance-risk-and-finance-committee-17-october-2024/
LOCATION:Supper Room\, Waihinga Centre\, Texas Street\, Martinborough
CATEGORIES:Risk & Finance Committee
END:VEVENT
END:VCALENDAR