BEGIN:VCALENDAR
VERSION:2.0
PRODID:-//SWDC - ECPv6.15.17.1//NONSGML v1.0//EN
CALSCALE:GREGORIAN
METHOD:PUBLISH
X-WR-CALNAME:SWDC
X-ORIGINAL-URL:https://swdc.govt.nz
X-WR-CALDESC:Events for SWDC
REFRESH-INTERVAL;VALUE=DURATION:PT1H
X-Robots-Tag:noindex
X-PUBLISHED-TTL:PT1H
BEGIN:VTIMEZONE
TZID:Pacific/Auckland
BEGIN:STANDARD
TZOFFSETFROM:+1300
TZOFFSETTO:+1200
TZNAME:NZST
DTSTART:20090404T140000
END:STANDARD
BEGIN:DAYLIGHT
TZOFFSETFROM:+1200
TZOFFSETTO:+1300
TZNAME:NZDT
DTSTART:20090926T140000
END:DAYLIGHT
BEGIN:STANDARD
TZOFFSETFROM:+1300
TZOFFSETTO:+1200
TZNAME:NZST
DTSTART:20100403T140000
END:STANDARD
BEGIN:DAYLIGHT
TZOFFSETFROM:+1200
TZOFFSETTO:+1300
TZNAME:NZDT
DTSTART:20100925T140000
END:DAYLIGHT
BEGIN:STANDARD
TZOFFSETFROM:+1300
TZOFFSETTO:+1200
TZNAME:NZST
DTSTART:20110402T140000
END:STANDARD
BEGIN:DAYLIGHT
TZOFFSETFROM:+1200
TZOFFSETTO:+1300
TZNAME:NZDT
DTSTART:20110924T140000
END:DAYLIGHT
END:VTIMEZONE
BEGIN:VEVENT
DTSTART;VALUE=DATE:20100426
DTEND;VALUE=DATE:20100427
DTSTAMP:20260426T124903
CREATED:20210116T103058Z
LAST-MODIFIED:20210116T103058Z
UID:38963-1272240000-1272326399@swdc.govt.nz
SUMMARY:Martinborough Community Board Meeting 26 April 2010
DESCRIPTION:
URL:https://swdc.govt.nz/meeting/martinborough-community-board-meeting-26-april-2010-2/
CATEGORIES:Martinborough Community Board
END:VEVENT
BEGIN:VEVENT
DTSTART;VALUE=DATE:20100426
DTEND;VALUE=DATE:20100427
DTSTAMP:20260426T124903
CREATED:20210116T103040Z
LAST-MODIFIED:20210116T103040Z
UID:38931-1272240000-1272326399@swdc.govt.nz
SUMMARY:Martinborough Community Board Meeting 26 April 2010
DESCRIPTION:
URL:https://swdc.govt.nz/meeting/martinborough-community-board-meeting-26-april-2010/
CATEGORIES:Martinborough Community Board
END:VEVENT
BEGIN:VEVENT
DTSTART;VALUE=DATE:20100427
DTEND;VALUE=DATE:20100428
DTSTAMP:20260426T124903
CREATED:20210116T102411Z
LAST-MODIFIED:20210116T102411Z
UID:38742-1272326400-1272412799@swdc.govt.nz
SUMMARY:Featherston Community Board Meeting 27 April 2010
DESCRIPTION:
URL:https://swdc.govt.nz/meeting/featherston-community-board-meeting-27-april-2010/
CATEGORIES:Featherston Community Board
END:VEVENT
BEGIN:VEVENT
DTSTART;VALUE=DATE:20100428
DTEND;VALUE=DATE:20100429
DTSTAMP:20260426T124903
CREATED:20210116T102947Z
LAST-MODIFIED:20210116T102947Z
UID:38844-1272412800-1272499199@swdc.govt.nz
SUMMARY:Greytown Community Board Meeting 28 April 2010
DESCRIPTION:
URL:https://swdc.govt.nz/meeting/greytown-community-board-meeting-28-april-2010/
CATEGORIES:Greytown Community Board
END:VEVENT
END:VCALENDAR