BEGIN:VCALENDAR
VERSION:2.0
PRODID:-//SWDC - ECPv6.15.17.1//NONSGML v1.0//EN
CALSCALE:GREGORIAN
METHOD:PUBLISH
X-WR-CALNAME:SWDC
X-ORIGINAL-URL:https://swdc.govt.nz
X-WR-CALDESC:Events for SWDC
REFRESH-INTERVAL;VALUE=DURATION:PT1H
X-Robots-Tag:noindex
X-PUBLISHED-TTL:PT1H
BEGIN:VTIMEZONE
TZID:Pacific/Auckland
BEGIN:STANDARD
TZOFFSETFROM:+1300
TZOFFSETTO:+1200
TZNAME:NZST
DTSTART:20100403T140000
END:STANDARD
BEGIN:DAYLIGHT
TZOFFSETFROM:+1200
TZOFFSETTO:+1300
TZNAME:NZDT
DTSTART:20100925T140000
END:DAYLIGHT
BEGIN:STANDARD
TZOFFSETFROM:+1300
TZOFFSETTO:+1200
TZNAME:NZST
DTSTART:20110402T140000
END:STANDARD
BEGIN:DAYLIGHT
TZOFFSETFROM:+1200
TZOFFSETTO:+1300
TZNAME:NZDT
DTSTART:20110924T140000
END:DAYLIGHT
BEGIN:STANDARD
TZOFFSETFROM:+1300
TZOFFSETTO:+1200
TZNAME:NZST
DTSTART:20120331T140000
END:STANDARD
BEGIN:DAYLIGHT
TZOFFSETFROM:+1200
TZOFFSETTO:+1300
TZNAME:NZDT
DTSTART:20120929T140000
END:DAYLIGHT
END:VTIMEZONE
BEGIN:VEVENT
DTSTART;VALUE=DATE:20110131
DTEND;VALUE=DATE:20110201
DTSTAMP:20260425T113645
CREATED:20210116T103100Z
LAST-MODIFIED:20210116T103100Z
UID:38969-1296432000-1296518399@swdc.govt.nz
SUMMARY:Martinborough Community Board Meeting 31 January 2011
DESCRIPTION:
URL:https://swdc.govt.nz/meeting/martinborough-community-board-meeting-31-january-2011-2/
CATEGORIES:Martinborough Community Board
END:VEVENT
BEGIN:VEVENT
DTSTART;VALUE=DATE:20110131
DTEND;VALUE=DATE:20110201
DTSTAMP:20260425T113645
CREATED:20210116T103042Z
LAST-MODIFIED:20210116T103042Z
UID:38937-1296432000-1296518399@swdc.govt.nz
SUMMARY:Martinborough Community Board Meeting 31 January 2011
DESCRIPTION:
URL:https://swdc.govt.nz/meeting/martinborough-community-board-meeting-31-january-2011/
CATEGORIES:Martinborough Community Board
END:VEVENT
END:VCALENDAR