BEGIN:VCALENDAR
VERSION:2.0
PRODID:-//SWDC - ECPv6.15.17.1//NONSGML v1.0//EN
CALSCALE:GREGORIAN
METHOD:PUBLISH
X-WR-CALNAME:SWDC
X-ORIGINAL-URL:https://swdc.govt.nz
X-WR-CALDESC:Events for SWDC
REFRESH-INTERVAL;VALUE=DURATION:PT1H
X-Robots-Tag:noindex
X-PUBLISHED-TTL:PT1H
BEGIN:VTIMEZONE
TZID:Pacific/Auckland
BEGIN:STANDARD
TZOFFSETFROM:+1300
TZOFFSETTO:+1200
TZNAME:NZST
DTSTART:20100403T140000
END:STANDARD
BEGIN:DAYLIGHT
TZOFFSETFROM:+1200
TZOFFSETTO:+1300
TZNAME:NZDT
DTSTART:20100925T140000
END:DAYLIGHT
BEGIN:STANDARD
TZOFFSETFROM:+1300
TZOFFSETTO:+1200
TZNAME:NZST
DTSTART:20110402T140000
END:STANDARD
BEGIN:DAYLIGHT
TZOFFSETFROM:+1200
TZOFFSETTO:+1300
TZNAME:NZDT
DTSTART:20110924T140000
END:DAYLIGHT
BEGIN:STANDARD
TZOFFSETFROM:+1300
TZOFFSETTO:+1200
TZNAME:NZST
DTSTART:20120331T140000
END:STANDARD
BEGIN:DAYLIGHT
TZOFFSETFROM:+1200
TZOFFSETTO:+1300
TZNAME:NZDT
DTSTART:20120929T140000
END:DAYLIGHT
END:VTIMEZONE
BEGIN:VEVENT
DTSTART;VALUE=DATE:20111121
DTEND;VALUE=DATE:20111122
DTSTAMP:20260424T064052
CREATED:20210116T103102Z
LAST-MODIFIED:20210116T103102Z
UID:38976-1321833600-1321919999@swdc.govt.nz
SUMMARY:Martinborough Community Board Meeting 21 November 2011
DESCRIPTION:
URL:https://swdc.govt.nz/meeting/martinborough-community-board-meeting-21-november-2011-2/
CATEGORIES:Martinborough Community Board
END:VEVENT
BEGIN:VEVENT
DTSTART;VALUE=DATE:20111121
DTEND;VALUE=DATE:20111122
DTSTAMP:20260424T064052
CREATED:20210116T103044Z
LAST-MODIFIED:20210116T103044Z
UID:38944-1321833600-1321919999@swdc.govt.nz
SUMMARY:Martinborough Community Board Meeting 21 November 2011
DESCRIPTION:
URL:https://swdc.govt.nz/meeting/martinborough-community-board-meeting-21-november-2011/
CATEGORIES:Martinborough Community Board
END:VEVENT
BEGIN:VEVENT
DTSTART;VALUE=DATE:20111122
DTEND;VALUE=DATE:20111123
DTSTAMP:20260424T064052
CREATED:20210116T102414Z
LAST-MODIFIED:20210116T102414Z
UID:38754-1321920000-1322006399@swdc.govt.nz
SUMMARY:Featherston Community Board Meeting 22 November 2011
DESCRIPTION:
URL:https://swdc.govt.nz/meeting/featherston-community-board-meeting-22-november-2011/
CATEGORIES:Featherston Community Board
END:VEVENT
BEGIN:VEVENT
DTSTART;VALUE=DATE:20111123
DTEND;VALUE=DATE:20111124
DTSTAMP:20260424T064052
CREATED:20210116T102950Z
LAST-MODIFIED:20210116T102950Z
UID:38856-1322006400-1322092799@swdc.govt.nz
SUMMARY:Greytown Community Board Meeting 23 November 2011
DESCRIPTION:
URL:https://swdc.govt.nz/meeting/greytown-community-board-meeting-23-november-2011/
CATEGORIES:Greytown Community Board
END:VEVENT
END:VCALENDAR