BEGIN:VCALENDAR
VERSION:2.0
PRODID:-//SWDC - ECPv6.15.17.1//NONSGML v1.0//EN
CALSCALE:GREGORIAN
METHOD:PUBLISH
X-WR-CALNAME:SWDC
X-ORIGINAL-URL:https://swdc.govt.nz
X-WR-CALDESC:Events for SWDC
REFRESH-INTERVAL;VALUE=DURATION:PT1H
X-Robots-Tag:noindex
X-PUBLISHED-TTL:PT1H
BEGIN:VTIMEZONE
TZID:Pacific/Auckland
BEGIN:STANDARD
TZOFFSETFROM:+1300
TZOFFSETTO:+1200
TZNAME:NZST
DTSTART:20110402T140000
END:STANDARD
BEGIN:DAYLIGHT
TZOFFSETFROM:+1200
TZOFFSETTO:+1300
TZNAME:NZDT
DTSTART:20110924T140000
END:DAYLIGHT
BEGIN:STANDARD
TZOFFSETFROM:+1300
TZOFFSETTO:+1200
TZNAME:NZST
DTSTART:20120331T140000
END:STANDARD
BEGIN:DAYLIGHT
TZOFFSETFROM:+1200
TZOFFSETTO:+1300
TZNAME:NZDT
DTSTART:20120929T140000
END:DAYLIGHT
BEGIN:STANDARD
TZOFFSETFROM:+1300
TZOFFSETTO:+1200
TZNAME:NZST
DTSTART:20130406T140000
END:STANDARD
BEGIN:DAYLIGHT
TZOFFSETFROM:+1200
TZOFFSETTO:+1300
TZNAME:NZDT
DTSTART:20130928T140000
END:DAYLIGHT
END:VTIMEZONE
BEGIN:VEVENT
DTSTART;VALUE=DATE:20120501
DTEND;VALUE=DATE:20120502
DTSTAMP:20260423T160446
CREATED:20210116T102415Z
LAST-MODIFIED:20210116T102415Z
UID:38757-1335830400-1335916799@swdc.govt.nz
SUMMARY:Featherston Community Board Meeting 1 May 2012
DESCRIPTION:
URL:https://swdc.govt.nz/meeting/featherston-community-board-meeting-1-may-2012/
CATEGORIES:Featherston Community Board
END:VEVENT
BEGIN:VEVENT
DTSTART;VALUE=DATE:20120502
DTEND;VALUE=DATE:20120503
DTSTAMP:20260423T160446
CREATED:20210116T102951Z
LAST-MODIFIED:20210116T102951Z
UID:38859-1335916800-1336003199@swdc.govt.nz
SUMMARY:Greytown Community Board Meeting \n2 May 2012
DESCRIPTION:
URL:https://swdc.govt.nz/meeting/greytown-community-board-meeting-2-may-2012/
CATEGORIES:Greytown Community Board
END:VEVENT
END:VCALENDAR