BEGIN:VCALENDAR
VERSION:2.0
PRODID:-//SWDC - ECPv6.15.17.1//NONSGML v1.0//EN
CALSCALE:GREGORIAN
METHOD:PUBLISH
X-WR-CALNAME:SWDC
X-ORIGINAL-URL:https://swdc.govt.nz
X-WR-CALDESC:Events for SWDC
REFRESH-INTERVAL;VALUE=DURATION:PT1H
X-Robots-Tag:noindex
X-PUBLISHED-TTL:PT1H
BEGIN:VTIMEZONE
TZID:Pacific/Auckland
BEGIN:STANDARD
TZOFFSETFROM:+1300
TZOFFSETTO:+1200
TZNAME:NZST
DTSTART:20110402T140000
END:STANDARD
BEGIN:DAYLIGHT
TZOFFSETFROM:+1200
TZOFFSETTO:+1300
TZNAME:NZDT
DTSTART:20110924T140000
END:DAYLIGHT
BEGIN:STANDARD
TZOFFSETFROM:+1300
TZOFFSETTO:+1200
TZNAME:NZST
DTSTART:20120331T140000
END:STANDARD
BEGIN:DAYLIGHT
TZOFFSETFROM:+1200
TZOFFSETTO:+1300
TZNAME:NZDT
DTSTART:20120929T140000
END:DAYLIGHT
BEGIN:STANDARD
TZOFFSETFROM:+1300
TZOFFSETTO:+1200
TZNAME:NZST
DTSTART:20130406T140000
END:STANDARD
BEGIN:DAYLIGHT
TZOFFSETFROM:+1200
TZOFFSETTO:+1300
TZNAME:NZDT
DTSTART:20130928T140000
END:DAYLIGHT
END:VTIMEZONE
BEGIN:VEVENT
DTSTART;VALUE=DATE:20120605
DTEND;VALUE=DATE:20120606
DTSTAMP:20260423T160454
CREATED:20210116T102415Z
LAST-MODIFIED:20210116T102415Z
UID:38758-1338854400-1338940799@swdc.govt.nz
SUMMARY:Featherston Community Board Meeting 5 June 2012
DESCRIPTION:
URL:https://swdc.govt.nz/meeting/featherston-community-board-meeting-5-june-2012/
CATEGORIES:Featherston Community Board
END:VEVENT
BEGIN:VEVENT
DTSTART;VALUE=DATE:20120606
DTEND;VALUE=DATE:20120607
DTSTAMP:20260423T160454
CREATED:20210116T102952Z
LAST-MODIFIED:20210116T102952Z
UID:38860-1338940800-1339027199@swdc.govt.nz
SUMMARY:Greytown Community Board Meeting \n6 June 2012
DESCRIPTION:
URL:https://swdc.govt.nz/meeting/greytown-community-board-meeting-6-june-2012/
CATEGORIES:Greytown Community Board
END:VEVENT
BEGIN:VEVENT
DTSTART;VALUE=DATE:20120611
DTEND;VALUE=DATE:20120612
DTSTAMP:20260423T160454
CREATED:20210116T103104Z
LAST-MODIFIED:20210116T103104Z
UID:38980-1339372800-1339459199@swdc.govt.nz
SUMMARY:Martinborough Community Board Meeting \n11 June 2012
DESCRIPTION:
URL:https://swdc.govt.nz/meeting/martinborough-community-board-meeting-11-june-2012-2/
CATEGORIES:Martinborough Community Board
END:VEVENT
BEGIN:VEVENT
DTSTART;VALUE=DATE:20120611
DTEND;VALUE=DATE:20120612
DTSTAMP:20260423T160454
CREATED:20210116T103046Z
LAST-MODIFIED:20210116T103046Z
UID:38948-1339372800-1339459199@swdc.govt.nz
SUMMARY:Martinborough Community Board Meeting \n11 June 2012
DESCRIPTION:
URL:https://swdc.govt.nz/meeting/martinborough-community-board-meeting-11-june-2012/
CATEGORIES:Martinborough Community Board
END:VEVENT
END:VCALENDAR