BEGIN:VCALENDAR
VERSION:2.0
PRODID:-//SWDC - ECPv6.15.17.1//NONSGML v1.0//EN
CALSCALE:GREGORIAN
METHOD:PUBLISH
X-WR-CALNAME:SWDC
X-ORIGINAL-URL:https://swdc.govt.nz
X-WR-CALDESC:Events for SWDC
REFRESH-INTERVAL;VALUE=DURATION:PT1H
X-Robots-Tag:noindex
X-PUBLISHED-TTL:PT1H
BEGIN:VTIMEZONE
TZID:Pacific/Auckland
BEGIN:STANDARD
TZOFFSETFROM:+1300
TZOFFSETTO:+1200
TZNAME:NZST
DTSTART:20110402T140000
END:STANDARD
BEGIN:DAYLIGHT
TZOFFSETFROM:+1200
TZOFFSETTO:+1300
TZNAME:NZDT
DTSTART:20110924T140000
END:DAYLIGHT
BEGIN:STANDARD
TZOFFSETFROM:+1300
TZOFFSETTO:+1200
TZNAME:NZST
DTSTART:20120331T140000
END:STANDARD
BEGIN:DAYLIGHT
TZOFFSETFROM:+1200
TZOFFSETTO:+1300
TZNAME:NZDT
DTSTART:20120929T140000
END:DAYLIGHT
BEGIN:STANDARD
TZOFFSETFROM:+1300
TZOFFSETTO:+1200
TZNAME:NZST
DTSTART:20130406T140000
END:STANDARD
BEGIN:DAYLIGHT
TZOFFSETFROM:+1200
TZOFFSETTO:+1300
TZNAME:NZDT
DTSTART:20130928T140000
END:DAYLIGHT
END:VTIMEZONE
BEGIN:VEVENT
DTSTART;VALUE=DATE:20121119
DTEND;VALUE=DATE:20121120
DTSTAMP:20260422T232339
CREATED:20210116T103106Z
LAST-MODIFIED:20210116T103106Z
UID:38984-1353283200-1353369599@swdc.govt.nz
SUMMARY:Martinborough Community Board Meeting \n19 November 2012
DESCRIPTION:
URL:https://swdc.govt.nz/meeting/martinborough-community-board-meeting-19-november-2012-2/
CATEGORIES:Martinborough Community Board
END:VEVENT
BEGIN:VEVENT
DTSTART;VALUE=DATE:20121119
DTEND;VALUE=DATE:20121120
DTSTAMP:20260422T232339
CREATED:20210116T103047Z
LAST-MODIFIED:20210116T103047Z
UID:38952-1353283200-1353369599@swdc.govt.nz
SUMMARY:Martinborough Community Board Meeting \n19 November 2012
DESCRIPTION:
URL:https://swdc.govt.nz/meeting/martinborough-community-board-meeting-19-november-2012/
CATEGORIES:Martinborough Community Board
END:VEVENT
BEGIN:VEVENT
DTSTART;VALUE=DATE:20121120
DTEND;VALUE=DATE:20121121
DTSTAMP:20260422T232339
CREATED:20210116T102417Z
LAST-MODIFIED:20210116T102417Z
UID:38762-1353369600-1353455999@swdc.govt.nz
SUMMARY:Featherston Community Board Meeting 20 November 2012
DESCRIPTION:
URL:https://swdc.govt.nz/meeting/featherston-community-board-meeting-20-november-2012/
CATEGORIES:Featherston Community Board
END:VEVENT
BEGIN:VEVENT
DTSTART;VALUE=DATE:20121121
DTEND;VALUE=DATE:20121122
DTSTAMP:20260422T232339
CREATED:20210116T102953Z
LAST-MODIFIED:20210116T102953Z
UID:38864-1353456000-1353542399@swdc.govt.nz
SUMMARY:Greytown Community Board Meeting \n21 November 2012
DESCRIPTION:
URL:https://swdc.govt.nz/meeting/greytown-community-board-meeting-21-november-2012/
CATEGORIES:Greytown Community Board
END:VEVENT
END:VCALENDAR