BEGIN:VCALENDAR
VERSION:2.0
PRODID:-//SWDC - ECPv6.15.17.1//NONSGML v1.0//EN
CALSCALE:GREGORIAN
METHOD:PUBLISH
X-ORIGINAL-URL:https://swdc.govt.nz
X-WR-CALDESC:Events for SWDC
REFRESH-INTERVAL;VALUE=DURATION:PT1H
X-Robots-Tag:noindex
X-PUBLISHED-TTL:PT1H
BEGIN:VTIMEZONE
TZID:Pacific/Auckland
BEGIN:STANDARD
TZOFFSETFROM:+1300
TZOFFSETTO:+1200
TZNAME:NZST
DTSTART:20120331T140000
END:STANDARD
BEGIN:DAYLIGHT
TZOFFSETFROM:+1200
TZOFFSETTO:+1300
TZNAME:NZDT
DTSTART:20120929T140000
END:DAYLIGHT
BEGIN:STANDARD
TZOFFSETFROM:+1300
TZOFFSETTO:+1200
TZNAME:NZST
DTSTART:20130406T140000
END:STANDARD
BEGIN:DAYLIGHT
TZOFFSETFROM:+1200
TZOFFSETTO:+1300
TZNAME:NZDT
DTSTART:20130928T140000
END:DAYLIGHT
BEGIN:STANDARD
TZOFFSETFROM:+1300
TZOFFSETTO:+1200
TZNAME:NZST
DTSTART:20140405T140000
END:STANDARD
BEGIN:DAYLIGHT
TZOFFSETFROM:+1200
TZOFFSETTO:+1300
TZNAME:NZDT
DTSTART:20140927T140000
END:DAYLIGHT
END:VTIMEZONE
BEGIN:VEVENT
DTSTART;VALUE=DATE:20130429
DTEND;VALUE=DATE:20130430
DTSTAMP:20260422T150046
CREATED:20210116T103107Z
LAST-MODIFIED:20210116T103107Z
UID:38987-1367193600-1367279999@swdc.govt.nz
SUMMARY:Martinborough Community Board Meeting 29 April 2013
DESCRIPTION:
URL:https://swdc.govt.nz/meeting/martinborough-community-board-meeting-29-april-2013-2/
CATEGORIES:Martinborough Community Board
END:VEVENT
BEGIN:VEVENT
DTSTART;VALUE=DATE:20130429
DTEND;VALUE=DATE:20130430
DTSTAMP:20260422T150046
CREATED:20210116T103048Z
LAST-MODIFIED:20210116T103048Z
UID:38955-1367193600-1367279999@swdc.govt.nz
SUMMARY:Martinborough Community Board Meeting 29 April 2013
DESCRIPTION:
URL:https://swdc.govt.nz/meeting/martinborough-community-board-meeting-29-april-2013/
CATEGORIES:Martinborough Community Board
END:VEVENT
BEGIN:VEVENT
DTSTART;VALUE=DATE:20130430
DTEND;VALUE=DATE:20130501
DTSTAMP:20260422T150046
CREATED:20210116T102418Z
LAST-MODIFIED:20210116T102418Z
UID:38765-1367280000-1367366399@swdc.govt.nz
SUMMARY:Featherston Community Board Meeting 30 April 2013
DESCRIPTION:
URL:https://swdc.govt.nz/meeting/featherston-community-board-meeting-30-april-2013/
CATEGORIES:Featherston Community Board
END:VEVENT
END:VCALENDAR