BEGIN:VCALENDAR
VERSION:2.0
PRODID:-//SWDC - ECPv6.15.17.1//NONSGML v1.0//EN
CALSCALE:GREGORIAN
METHOD:PUBLISH
X-ORIGINAL-URL:https://swdc.govt.nz
X-WR-CALDESC:Events for SWDC
REFRESH-INTERVAL;VALUE=DURATION:PT1H
X-Robots-Tag:noindex
X-PUBLISHED-TTL:PT1H
BEGIN:VTIMEZONE
TZID:Pacific/Auckland
BEGIN:STANDARD
TZOFFSETFROM:+1300
TZOFFSETTO:+1200
TZNAME:NZST
DTSTART:20240406T140000
END:STANDARD
BEGIN:DAYLIGHT
TZOFFSETFROM:+1200
TZOFFSETTO:+1300
TZNAME:NZDT
DTSTART:20240928T140000
END:DAYLIGHT
BEGIN:STANDARD
TZOFFSETFROM:+1300
TZOFFSETTO:+1200
TZNAME:NZST
DTSTART:20250405T140000
END:STANDARD
BEGIN:DAYLIGHT
TZOFFSETFROM:+1200
TZOFFSETTO:+1300
TZNAME:NZDT
DTSTART:20250927T140000
END:DAYLIGHT
BEGIN:STANDARD
TZOFFSETFROM:+1300
TZOFFSETTO:+1200
TZNAME:NZST
DTSTART:20260404T140000
END:STANDARD
BEGIN:DAYLIGHT
TZOFFSETFROM:+1200
TZOFFSETTO:+1300
TZNAME:NZDT
DTSTART:20260926T140000
END:DAYLIGHT
END:VTIMEZONE
BEGIN:VEVENT
DTSTART;TZID=Pacific/Auckland:20251208T190000
DTEND;TZID=Pacific/Auckland:20251208T210000
DTSTAMP:20260422T024758
CREATED:20251105T221405Z
LAST-MODIFIED:20251223T214627Z
UID:69226-1765220400-1765227600@swdc.govt.nz
SUMMARY:Martinborough Community Board - 8 December 2025
DESCRIPTION:
URL:https://swdc.govt.nz/meeting/martinborough-community-board-8-december-2025/
LOCATION:Supper Room\, Waihinga Centre\, Texas Street\, Martinborough
CATEGORIES:All Council & Community Boards,Community Boards,Martinborough Community Board
END:VEVENT
BEGIN:VEVENT
DTSTART;TZID=Pacific/Auckland:20251209T193000
DTEND;TZID=Pacific/Auckland:20251209T210000
DTSTAMP:20260422T024758
CREATED:20251105T222528Z
LAST-MODIFIED:20260204T094133Z
UID:69228-1765308600-1765314000@swdc.govt.nz
SUMMARY:Featherston Community Board - 9 December 2025
DESCRIPTION:
URL:https://swdc.govt.nz/meeting/featherston-community-board-9-december-2025/
LOCATION:Anzac Hall\, Featherston\, 62 Bell Street\, Featherston
CATEGORIES:All Council & Community Boards,Community Boards,Featherston Community Board
END:VEVENT
BEGIN:VEVENT
DTSTART;TZID=Pacific/Auckland:20251210T190000
DTEND;TZID=Pacific/Auckland:20251210T210000
DTSTAMP:20260422T024758
CREATED:20251105T222632Z
LAST-MODIFIED:20260204T115232Z
UID:69230-1765393200-1765400400@swdc.govt.nz
SUMMARY:Greytown Community Board - 10 December 2025
DESCRIPTION:
URL:https://swdc.govt.nz/meeting/greytown-community-board-10-december-2025/
LOCATION:Greytown Pavilion\, Kuratawhiti Street\, Greytown\, 89 Main Street\, Greytown
CATEGORIES:All Council & Community Boards,Community Boards,Greytown Community Board
END:VEVENT
END:VCALENDAR