BEGIN:VCALENDAR
VERSION:2.0
PRODID:-//SWDC - ECPv6.15.17.1//NONSGML v1.0//EN
CALSCALE:GREGORIAN
METHOD:PUBLISH
X-WR-CALNAME:SWDC
X-ORIGINAL-URL:https://swdc.govt.nz
X-WR-CALDESC:Events for SWDC
REFRESH-INTERVAL;VALUE=DURATION:PT1H
X-Robots-Tag:noindex
X-PUBLISHED-TTL:PT1H
BEGIN:VTIMEZONE
TZID:Pacific/Auckland
BEGIN:STANDARD
TZOFFSETFROM:+1300
TZOFFSETTO:+1200
TZNAME:NZST
DTSTART:20200404T140000
END:STANDARD
BEGIN:DAYLIGHT
TZOFFSETFROM:+1200
TZOFFSETTO:+1300
TZNAME:NZDT
DTSTART:20200926T140000
END:DAYLIGHT
BEGIN:STANDARD
TZOFFSETFROM:+1300
TZOFFSETTO:+1200
TZNAME:NZST
DTSTART:20210403T140000
END:STANDARD
BEGIN:DAYLIGHT
TZOFFSETFROM:+1200
TZOFFSETTO:+1300
TZNAME:NZDT
DTSTART:20210925T140000
END:DAYLIGHT
BEGIN:STANDARD
TZOFFSETFROM:+1300
TZOFFSETTO:+1200
TZNAME:NZST
DTSTART:20220402T140000
END:STANDARD
BEGIN:DAYLIGHT
TZOFFSETFROM:+1200
TZOFFSETTO:+1300
TZNAME:NZDT
DTSTART:20220924T140000
END:DAYLIGHT
END:VTIMEZONE
BEGIN:VEVENT
DTSTART;TZID=Pacific/Auckland:20210420T190000
DTEND;TZID=Pacific/Auckland:20210420T213000
DTSTAMP:20260425T050325
CREATED:20210317T122432Z
LAST-MODIFIED:20210405T222631Z
UID:41367-1618945200-1618954200@swdc.govt.nz
SUMMARY:Featherston Community Board 20 April 2021
DESCRIPTION:This meeting has been cancelled due to a clash with another event. The Featherston Community Board will next meet on Tuesday 27 April. 
URL:https://swdc.govt.nz/meeting/featherston-community-board-20-april-2021/
LOCATION:Kiwi Hall\, Featherston\, 62 Bell Street\, Featherston
CATEGORIES:Featherston Community Board
END:VEVENT
BEGIN:VEVENT
DTSTART;TZID=Pacific/Auckland:20210427T190000
DTEND;TZID=Pacific/Auckland:20210427T190000
DTSTAMP:20260425T050325
CREATED:20210405T222839Z
LAST-MODIFIED:20210928T233545Z
UID:42240-1619550000-1619550000@swdc.govt.nz
SUMMARY:Featherston Community Board Meeting April 27 2021
DESCRIPTION:
URL:https://swdc.govt.nz/meeting/featherston-community-board-meeting-april-27-2021/
LOCATION:Kiwi Hall\, Featherston\, 62 Bell Street\, Featherston
CATEGORIES:Featherston Community Board
END:VEVENT
END:VCALENDAR