BEGIN:VCALENDAR
VERSION:2.0
PRODID:-//SWDC - ECPv6.15.17.1//NONSGML v1.0//EN
CALSCALE:GREGORIAN
METHOD:PUBLISH
X-WR-CALNAME:SWDC
X-ORIGINAL-URL:https://swdc.govt.nz
X-WR-CALDESC:Events for SWDC
REFRESH-INTERVAL;VALUE=DURATION:PT1H
X-Robots-Tag:noindex
X-PUBLISHED-TTL:PT1H
BEGIN:VTIMEZONE
TZID:Pacific/Auckland
BEGIN:STANDARD
TZOFFSETFROM:+1300
TZOFFSETTO:+1200
TZNAME:NZST
DTSTART:20210403T140000
END:STANDARD
BEGIN:DAYLIGHT
TZOFFSETFROM:+1200
TZOFFSETTO:+1300
TZNAME:NZDT
DTSTART:20210925T140000
END:DAYLIGHT
BEGIN:STANDARD
TZOFFSETFROM:+1300
TZOFFSETTO:+1200
TZNAME:NZST
DTSTART:20220402T140000
END:STANDARD
BEGIN:DAYLIGHT
TZOFFSETFROM:+1200
TZOFFSETTO:+1300
TZNAME:NZDT
DTSTART:20220924T140000
END:DAYLIGHT
BEGIN:STANDARD
TZOFFSETFROM:+1300
TZOFFSETTO:+1200
TZNAME:NZST
DTSTART:20230401T140000
END:STANDARD
BEGIN:DAYLIGHT
TZOFFSETFROM:+1200
TZOFFSETTO:+1300
TZNAME:NZDT
DTSTART:20230923T140000
END:DAYLIGHT
END:VTIMEZONE
BEGIN:VEVENT
DTSTART;TZID=Pacific/Auckland:20220517T190000
DTEND;TZID=Pacific/Auckland:20220517T210000
DTSTAMP:20260423T172115
CREATED:20211220T231728Z
LAST-MODIFIED:20220601T235611Z
UID:52446-1652814000-1652821200@swdc.govt.nz
SUMMARY:Featherston Community Board 17 May 2022
DESCRIPTION:This meeting will be held in the Kiwi Hall\, 62 Bell Street\, Featherston. Masks are required for all those in attendance and physical distancing throughout the meeting is recommended. If you are sick or have any cold/flu like symptoms\, please do not attend.
URL:https://swdc.govt.nz/meeting/featherston-community-board-17-may-2022/
LOCATION:Kiwi Hall\, Featherston\, 62 Bell Street\, Featherston
CATEGORIES:Featherston Community Board
END:VEVENT
END:VCALENDAR