BEGIN:VCALENDAR
VERSION:2.0
PRODID:-//SWDC - ECPv6.15.17.1//NONSGML v1.0//EN
CALSCALE:GREGORIAN
METHOD:PUBLISH
X-ORIGINAL-URL:https://swdc.govt.nz
X-WR-CALDESC:Events for SWDC
REFRESH-INTERVAL;VALUE=DURATION:PT1H
X-Robots-Tag:noindex
X-PUBLISHED-TTL:PT1H
BEGIN:VTIMEZONE
TZID:Pacific/Auckland
BEGIN:STANDARD
TZOFFSETFROM:+1300
TZOFFSETTO:+1200
TZNAME:NZST
DTSTART:20250405T140000
END:STANDARD
BEGIN:DAYLIGHT
TZOFFSETFROM:+1200
TZOFFSETTO:+1300
TZNAME:NZDT
DTSTART:20250927T140000
END:DAYLIGHT
BEGIN:STANDARD
TZOFFSETFROM:+1300
TZOFFSETTO:+1200
TZNAME:NZST
DTSTART:20260404T140000
END:STANDARD
BEGIN:DAYLIGHT
TZOFFSETFROM:+1200
TZOFFSETTO:+1300
TZNAME:NZDT
DTSTART:20260926T140000
END:DAYLIGHT
BEGIN:STANDARD
TZOFFSETFROM:+1300
TZOFFSETTO:+1200
TZNAME:NZST
DTSTART:20270403T140000
END:STANDARD
BEGIN:DAYLIGHT
TZOFFSETFROM:+1200
TZOFFSETTO:+1300
TZNAME:NZDT
DTSTART:20270925T140000
END:DAYLIGHT
END:VTIMEZONE
BEGIN:VEVENT
DTSTART;TZID=Pacific/Auckland:20260430T190000
DTEND;TZID=Pacific/Auckland:20260430T190000
DTSTAMP:20260425T131532
CREATED:20251223T230811Z
LAST-MODIFIED:20260301T223747Z
UID:70302-1777575600-1777575600@swdc.govt.nz
SUMMARY:Greytown Community Board - 30 April 2026
DESCRIPTION:This meeting will be held in the WBS room at the Greytown Town Centre. \nPublic participation is welcome. If you wish to speak during the public participation session at any meetings\, please phone 06 306 9611 at least 24 hours prior to the meeting or email enquiries@swdc.govt.nz. \nIf you have cold and flu symptoms\, please stay at home.
URL:https://swdc.govt.nz/meeting/greytown-community-board-30-april-2026/
LOCATION:Greytown Town Centre\, WBS room\, 89 Main Street\, Greytown
CATEGORIES:All Council & Community Boards,Community Boards,Greytown Community Board
END:VEVENT
END:VCALENDAR