BEGIN:VCALENDAR
VERSION:2.0
PRODID:-//SWDC - ECPv6.15.17.1//NONSGML v1.0//EN
CALSCALE:GREGORIAN
METHOD:PUBLISH
X-WR-CALNAME:SWDC
X-ORIGINAL-URL:https://swdc.govt.nz
X-WR-CALDESC:Events for SWDC
REFRESH-INTERVAL;VALUE=DURATION:PT1H
X-Robots-Tag:noindex
X-PUBLISHED-TTL:PT1H
BEGIN:VTIMEZONE
TZID:Pacific/Auckland
BEGIN:STANDARD
TZOFFSETFROM:+1300
TZOFFSETTO:+1200
TZNAME:NZST
DTSTART:20200404T140000
END:STANDARD
BEGIN:DAYLIGHT
TZOFFSETFROM:+1200
TZOFFSETTO:+1300
TZNAME:NZDT
DTSTART:20200926T140000
END:DAYLIGHT
BEGIN:STANDARD
TZOFFSETFROM:+1300
TZOFFSETTO:+1200
TZNAME:NZST
DTSTART:20210403T140000
END:STANDARD
BEGIN:DAYLIGHT
TZOFFSETFROM:+1200
TZOFFSETTO:+1300
TZNAME:NZDT
DTSTART:20210925T140000
END:DAYLIGHT
BEGIN:STANDARD
TZOFFSETFROM:+1300
TZOFFSETTO:+1200
TZNAME:NZST
DTSTART:20220402T140000
END:STANDARD
BEGIN:DAYLIGHT
TZOFFSETFROM:+1200
TZOFFSETTO:+1300
TZNAME:NZDT
DTSTART:20220924T140000
END:DAYLIGHT
END:VTIMEZONE
BEGIN:VEVENT
DTSTART;TZID=Pacific/Auckland:20211125T183000
DTEND;TZID=Pacific/Auckland:20211125T210000
DTSTAMP:20260425T233743
CREATED:20210317T122432Z
LAST-MODIFIED:20211221T014034Z
UID:41378-1637865000-1637874000@swdc.govt.nz
SUMMARY:Martinborough Community Board 25 November 2021
DESCRIPTION:Due to COVID-19 restrictions this meeting will be held via video conference.  All members participating via video conference will count for the purpose of the meeting quorum in accordance with clause 25B of Schedule 7 to the Local Government Act 2002. This meeting will be live-streamed and will be available to view on our YouTube channel.
URL:https://swdc.govt.nz/meeting/martinborough-community-board-25-november-2021/
CATEGORIES:Martinborough Community Board
END:VEVENT
END:VCALENDAR