BEGIN:VCALENDAR
VERSION:2.0
PRODID:-//SWDC - ECPv6.15.17.1//NONSGML v1.0//EN
CALSCALE:GREGORIAN
METHOD:PUBLISH
X-WR-CALNAME:SWDC
X-ORIGINAL-URL:https://swdc.govt.nz
X-WR-CALDESC:Events for SWDC
REFRESH-INTERVAL;VALUE=DURATION:PT1H
X-Robots-Tag:noindex
X-PUBLISHED-TTL:PT1H
BEGIN:VTIMEZONE
TZID:Pacific/Auckland
BEGIN:STANDARD
TZOFFSETFROM:+1300
TZOFFSETTO:+1200
TZNAME:NZST
DTSTART:20230401T140000
END:STANDARD
BEGIN:DAYLIGHT
TZOFFSETFROM:+1200
TZOFFSETTO:+1300
TZNAME:NZDT
DTSTART:20230923T140000
END:DAYLIGHT
BEGIN:STANDARD
TZOFFSETFROM:+1300
TZOFFSETTO:+1200
TZNAME:NZST
DTSTART:20240406T140000
END:STANDARD
BEGIN:DAYLIGHT
TZOFFSETFROM:+1200
TZOFFSETTO:+1300
TZNAME:NZDT
DTSTART:20240928T140000
END:DAYLIGHT
BEGIN:STANDARD
TZOFFSETFROM:+1300
TZOFFSETTO:+1200
TZNAME:NZST
DTSTART:20250405T140000
END:STANDARD
BEGIN:DAYLIGHT
TZOFFSETFROM:+1200
TZOFFSETTO:+1300
TZNAME:NZDT
DTSTART:20250927T140000
END:DAYLIGHT
END:VTIMEZONE
BEGIN:VEVENT
DTSTART;TZID=Pacific/Auckland:20240515T090000
DTEND;TZID=Pacific/Auckland:20240515T170000
DTSTAMP:20260426T073353
CREATED:20231219T235331Z
LAST-MODIFIED:20240516T041449Z
UID:61416-1715763600-1715792400@swdc.govt.nz
SUMMARY:Enhanced Annual Plan Hearing (Day 1) 15 May 2024
DESCRIPTION:This hearing will be held in the Supper Room\, Waihinga Centre\, Martinborough. \nIf you have cold and flu symptoms\, please stay at home. \nThe meetings will be livestreamed on YouTube Channel\, where possible.
URL:https://swdc.govt.nz/meeting/long-term-plan-hearing-day-1-15-may-2024/
LOCATION:Supper Room\, Waihinga Centre\, Texas Street\, Martinborough
CATEGORIES:Council
END:VEVENT
BEGIN:VEVENT
DTSTART;TZID=Pacific/Auckland:20240516T090000
DTEND;TZID=Pacific/Auckland:20240516T170000
DTSTAMP:20260426T073353
CREATED:20231219T235441Z
LAST-MODIFIED:20240508T021224Z
UID:61418-1715850000-1715878800@swdc.govt.nz
SUMMARY:Enhanced Annual Plan Hearing (Day 2) 16 May 2024  (Cancelled)
DESCRIPTION:Day 2 has been cancelled as this back up day is not required. \nAny questions can be forwarded to comms@swdc.govt.nz
URL:https://swdc.govt.nz/meeting/long-term-plan-hearing-day-1-16-may-2024/
LOCATION:Supper Room\, Waihinga Centre\, Texas Street\, Martinborough
CATEGORIES:Council
END:VEVENT
BEGIN:VEVENT
DTSTART;TZID=Pacific/Auckland:20240522T090000
DTEND;TZID=Pacific/Auckland:20240522T170000
DTSTAMP:20260426T073353
CREATED:20231219T235810Z
LAST-MODIFIED:20240626T211040Z
UID:61421-1716368400-1716397200@swdc.govt.nz
SUMMARY:Enhanced Annual Plan Deliberations 22 May 2024
DESCRIPTION:21/05/24: Agenda has been updated and now includes all reports. Please refer to the updated version of the agenda for this meeting. \n———————————————- \nThis meeting will be held in the Supper Room\, Waihinga Centre\, Martinborough. \nIf you have cold and flu symptoms\, please stay at home. \nThe meeting will be livestreamed on YouTube Channel\, where possible.
URL:https://swdc.govt.nz/meeting/long-term-plan-deliberations-22-may-2024/
LOCATION:Supper Room\, Waihinga Centre\, Texas Street\, Martinborough
CATEGORIES:Council
END:VEVENT
END:VCALENDAR