BEGIN:VCALENDAR
VERSION:2.0
PRODID:-//SWDC - ECPv6.15.17.1//NONSGML v1.0//EN
CALSCALE:GREGORIAN
METHOD:PUBLISH
X-WR-CALNAME:SWDC
X-ORIGINAL-URL:https://swdc.govt.nz
X-WR-CALDESC:Events for SWDC
REFRESH-INTERVAL;VALUE=DURATION:PT1H
X-Robots-Tag:noindex
X-PUBLISHED-TTL:PT1H
BEGIN:VTIMEZONE
TZID:Pacific/Auckland
BEGIN:STANDARD
TZOFFSETFROM:+1300
TZOFFSETTO:+1200
TZNAME:NZST
DTSTART:20230401T140000
END:STANDARD
BEGIN:DAYLIGHT
TZOFFSETFROM:+1200
TZOFFSETTO:+1300
TZNAME:NZDT
DTSTART:20230923T140000
END:DAYLIGHT
BEGIN:STANDARD
TZOFFSETFROM:+1300
TZOFFSETTO:+1200
TZNAME:NZST
DTSTART:20240406T140000
END:STANDARD
BEGIN:DAYLIGHT
TZOFFSETFROM:+1200
TZOFFSETTO:+1300
TZNAME:NZDT
DTSTART:20240928T140000
END:DAYLIGHT
BEGIN:STANDARD
TZOFFSETFROM:+1300
TZOFFSETTO:+1200
TZNAME:NZST
DTSTART:20250405T140000
END:STANDARD
BEGIN:DAYLIGHT
TZOFFSETFROM:+1200
TZOFFSETTO:+1300
TZNAME:NZDT
DTSTART:20250927T140000
END:DAYLIGHT
END:VTIMEZONE
BEGIN:VEVENT
DTSTART;TZID=Pacific/Auckland:20240612T090000
DTEND;TZID=Pacific/Auckland:20240612T113000
DTSTAMP:20260426T014829
CREATED:20231220T000904Z
LAST-MODIFIED:20240527T225132Z
UID:61431-1718182800-1718191800@swdc.govt.nz
SUMMARY:Council 12 June 2024 Cancelled
DESCRIPTION:This meeting has been cancelled due to lack of business.
URL:https://swdc.govt.nz/meeting/council-12-june-2024-cancelled/
LOCATION:Supper Room\, Waihinga Centre\, Texas Street\, Martinborough
CATEGORIES:Council
END:VEVENT
BEGIN:VEVENT
DTSTART;TZID=Pacific/Auckland:20240626T090000
DTEND;TZID=Pacific/Auckland:20240626T120000
DTSTAMP:20260426T014829
CREATED:20231220T001109Z
LAST-MODIFIED:20240702T035014Z
UID:61433-1719392400-1719403200@swdc.govt.nz
SUMMARY:Council - Adoption of Enhanced Annual Plan 26 June 2024
DESCRIPTION:Updated 24/06/24: The final version of the agenda was loaded at 1:08pm today. \nUpdate: 24/06/24: The first version of the agenda was loaded at 10:30am\, this does not include the Enhanced Annual Plan document due to the tight timeframe following deliberations.  This will be updated and loaded to this webpage as soon as possible. \n———————————————————————————————- \nThis meeting will be held in the Supper Room\, Waihinga Centre\, Martinborough. \nPublic participation is welcome. If you wish to speak during the public participation session at any meetings\, please phone 06 306 9611 at least 24 hours prior to the meeting or email enquiries@swdc.govt.nz. \nIf you have cold and flu symptoms\, please stay at home. \nThe meetings will be livestreamed on YouTube Channel\, where possible.
URL:https://swdc.govt.nz/meeting/council-adoption-of-long-term-plan-26-june-2024/
LOCATION:Supper Room\, Waihinga Centre\, Texas Street\, Martinborough
CATEGORIES:Council
END:VEVENT
END:VCALENDAR