BEGIN:VCALENDAR
VERSION:2.0
PRODID:-//SWDC - ECPv6.15.17.1//NONSGML v1.0//EN
CALSCALE:GREGORIAN
METHOD:PUBLISH
X-WR-CALNAME:SWDC
X-ORIGINAL-URL:https://swdc.govt.nz
X-WR-CALDESC:Events for SWDC
REFRESH-INTERVAL;VALUE=DURATION:PT1H
X-Robots-Tag:noindex
X-PUBLISHED-TTL:PT1H
BEGIN:VTIMEZONE
TZID:Pacific/Auckland
BEGIN:STANDARD
TZOFFSETFROM:+1300
TZOFFSETTO:+1200
TZNAME:NZST
DTSTART:20230401T140000
END:STANDARD
BEGIN:DAYLIGHT
TZOFFSETFROM:+1200
TZOFFSETTO:+1300
TZNAME:NZDT
DTSTART:20230923T140000
END:DAYLIGHT
BEGIN:STANDARD
TZOFFSETFROM:+1300
TZOFFSETTO:+1200
TZNAME:NZST
DTSTART:20240406T140000
END:STANDARD
BEGIN:DAYLIGHT
TZOFFSETFROM:+1200
TZOFFSETTO:+1300
TZNAME:NZDT
DTSTART:20240928T140000
END:DAYLIGHT
BEGIN:STANDARD
TZOFFSETFROM:+1300
TZOFFSETTO:+1200
TZNAME:NZST
DTSTART:20250405T140000
END:STANDARD
BEGIN:DAYLIGHT
TZOFFSETFROM:+1200
TZOFFSETTO:+1300
TZNAME:NZDT
DTSTART:20250927T140000
END:DAYLIGHT
END:VTIMEZONE
BEGIN:VEVENT
DTSTART;TZID=Pacific/Auckland:20240710T090000
DTEND;TZID=Pacific/Auckland:20240710T113000
DTSTAMP:20260425T234914
CREATED:20231220T001334Z
LAST-MODIFIED:20240625T033958Z
UID:61437-1720602000-1720611000@swdc.govt.nz
SUMMARY:Council 10 July 2024 - Cancelled
DESCRIPTION:This meeting has been cancelled due to lack of business.
URL:https://swdc.govt.nz/meeting/council-10-july-2024-cancelled/
LOCATION:Supper Room\, Waihinga Centre\, Texas Street\, Martinborough
CATEGORIES:Council
END:VEVENT
BEGIN:VEVENT
DTSTART;TZID=Pacific/Auckland:20240717T090000
DTEND;TZID=Pacific/Auckland:20240717T093000
DTSTAMP:20260425T234914
CREATED:20240708T035549Z
LAST-MODIFIED:20240724T215814Z
UID:63264-1721206800-1721208600@swdc.govt.nz
SUMMARY:Council 17 July 2024
DESCRIPTION:Update 11/07/24:  Please note this meeting was advertised previously as a Strategy Working Committee meeting on our website and the Wairarapa Times Age.  The meeting will be led by Council for decision-making requirements under the Terms of Reference. \n—————————————————– \nTopics for discussion: \n\nRemission of Uniform Annual General Charge and Uniform Targeted Rates in Certain Circumstances\nLGNZ Remits\n\nThis meeting will be held in the Supper Room\, Waihinga Centre\, Martinborough. \nPublic participation is welcome. If you wish to speak during the public participation session at any meetings\, please phone 06 306 9611 at least 24 hours prior to the meeting or email enquiries@swdc.govt.nz. \nIf you have cold and flu symptoms\, please stay at home. \nThe meetings will be livestreamed on YouTube Channel\, where possible. \n 
URL:https://swdc.govt.nz/meeting/council-17-july-2024/
LOCATION:Supper Room\, Waihinga Centre\, Texas Street\, Martinborough
CATEGORIES:Council
END:VEVENT
END:VCALENDAR