BEGIN:VCALENDAR
VERSION:2.0
PRODID:-//SWDC - ECPv6.15.17.1//NONSGML v1.0//EN
CALSCALE:GREGORIAN
METHOD:PUBLISH
X-WR-CALNAME:SWDC
X-ORIGINAL-URL:https://swdc.govt.nz
X-WR-CALDESC:Events for SWDC
REFRESH-INTERVAL;VALUE=DURATION:PT1H
X-Robots-Tag:noindex
X-PUBLISHED-TTL:PT1H
BEGIN:VTIMEZONE
TZID:Pacific/Auckland
BEGIN:STANDARD
TZOFFSETFROM:+1300
TZOFFSETTO:+1200
TZNAME:NZST
DTSTART:20230401T140000
END:STANDARD
BEGIN:DAYLIGHT
TZOFFSETFROM:+1200
TZOFFSETTO:+1300
TZNAME:NZDT
DTSTART:20230923T140000
END:DAYLIGHT
BEGIN:STANDARD
TZOFFSETFROM:+1300
TZOFFSETTO:+1200
TZNAME:NZST
DTSTART:20240406T140000
END:STANDARD
BEGIN:DAYLIGHT
TZOFFSETFROM:+1200
TZOFFSETTO:+1300
TZNAME:NZDT
DTSTART:20240928T140000
END:DAYLIGHT
BEGIN:STANDARD
TZOFFSETFROM:+1300
TZOFFSETTO:+1200
TZNAME:NZST
DTSTART:20250405T140000
END:STANDARD
BEGIN:DAYLIGHT
TZOFFSETFROM:+1200
TZOFFSETTO:+1300
TZNAME:NZDT
DTSTART:20250927T140000
END:DAYLIGHT
END:VTIMEZONE
BEGIN:VEVENT
DTSTART;TZID=Pacific/Auckland:20241218T090000
DTEND;TZID=Pacific/Auckland:20241218T100000
DTSTAMP:20260425T075402
CREATED:20241205T023229Z
LAST-MODIFIED:20241219T020246Z
UID:65301-1734512400-1734516000@swdc.govt.nz
SUMMARY:Council 18 December 2024
DESCRIPTION:Agenda items include: \n\nLocal Waters Done Well\nFuture Direction of Water Services (public excluded business).\n\nThis meeting will be held in the Supper Room\, Waihinga Centre\, Martinborough. \nThe meeting was livestreamed and can be viewed on the SWDC YouTube Channel.
URL:https://swdc.govt.nz/meeting/council-18-december-2024/
LOCATION:Supper Room\, Waihinga Centre\, Texas Street\, Martinborough
CATEGORIES:Council
END:VEVENT
END:VCALENDAR