BEGIN:VCALENDAR
VERSION:2.0
PRODID:-//SWDC - ECPv6.15.17.1//NONSGML v1.0//EN
CALSCALE:GREGORIAN
METHOD:PUBLISH
X-ORIGINAL-URL:https://swdc.govt.nz
X-WR-CALDESC:Events for SWDC
REFRESH-INTERVAL;VALUE=DURATION:PT1H
X-Robots-Tag:noindex
X-PUBLISHED-TTL:PT1H
BEGIN:VTIMEZONE
TZID:Pacific/Auckland
BEGIN:STANDARD
TZOFFSETFROM:+1300
TZOFFSETTO:+1200
TZNAME:NZST
DTSTART:20240406T140000
END:STANDARD
BEGIN:DAYLIGHT
TZOFFSETFROM:+1200
TZOFFSETTO:+1300
TZNAME:NZDT
DTSTART:20240928T140000
END:DAYLIGHT
BEGIN:STANDARD
TZOFFSETFROM:+1300
TZOFFSETTO:+1200
TZNAME:NZST
DTSTART:20250405T140000
END:STANDARD
BEGIN:DAYLIGHT
TZOFFSETFROM:+1200
TZOFFSETTO:+1300
TZNAME:NZDT
DTSTART:20250927T140000
END:DAYLIGHT
BEGIN:STANDARD
TZOFFSETFROM:+1300
TZOFFSETTO:+1200
TZNAME:NZST
DTSTART:20260404T140000
END:STANDARD
BEGIN:DAYLIGHT
TZOFFSETFROM:+1200
TZOFFSETTO:+1300
TZNAME:NZDT
DTSTART:20260926T140000
END:DAYLIGHT
END:VTIMEZONE
BEGIN:VEVENT
DTSTART;TZID=Pacific/Auckland:20250611T090000
DTEND;TZID=Pacific/Auckland:20250611T120000
DTSTAMP:20260424T140040
CREATED:20241125T220057Z
LAST-MODIFIED:20250626T012608Z
UID:65147-1749632400-1749643200@swdc.govt.nz
SUMMARY:Council 11 June 2025
DESCRIPTION:This meeting will be held in the Supper Room\, Waihinga Centre\, Martinborough. \nPublic participation is welcome. If you wish to speak during the public participation session at any meetings\, please phone 06 306 9611 at least 24 hours prior to the meeting or email enquiries@swdc.govt.nz. \nIf you have cold and flu symptoms\, please stay at home. \nThe meetings will be livestreamed on YouTube Channel\, where possible.
URL:https://swdc.govt.nz/meeting/council-11-june-2025/
LOCATION:Supper Room\, Waihinga Centre\, Texas Street\, Martinborough
CATEGORIES:Council
END:VEVENT
BEGIN:VEVENT
DTSTART;TZID=Pacific/Auckland:20250625T090000
DTEND;TZID=Pacific/Auckland:20250625T170000
DTSTAMP:20260424T140040
CREATED:20241125T220228Z
LAST-MODIFIED:20250729T214452Z
UID:65149-1750842000-1750870800@swdc.govt.nz
SUMMARY:Council 25 June 2025
DESCRIPTION:Updated 24/06/2025 at 2:30pm – Please note the agenda has been updated with: \n\nthe final draft version of the Delegations Policy and Register (appendix 1) in Item 10.1; and\nInclusion of papers for Item 10.5.\n\n\nMeeting agenda: Adoption of the Long Term Plan 2025-2034 \nThis meeting will be held in the Supper Room\, Waihinga Centre\, Martinborough. \nPublic participation is welcome. If you wish to speak during the public participation session at any meetings\, please phone 06 306 9611 at least 24 hours prior to the meeting or email enquiries@swdc.govt.nz. \nIf you have cold and flu symptoms\, please stay at home. \nThe meetings will be livestreamed on YouTube Channel\, where possible.
URL:https://swdc.govt.nz/meeting/council-25-june-2025/
LOCATION:Supper Room\, Waihinga Centre\, Texas Street\, Martinborough
CATEGORIES:Council
END:VEVENT
BEGIN:VEVENT
DTSTART;TZID=Pacific/Auckland:20250630T100000
DTEND;TZID=Pacific/Auckland:20250630T120000
DTSTAMP:20260424T140040
CREATED:20250608T204801Z
LAST-MODIFIED:20250625T023807Z
UID:67188-1751277600-1751284800@swdc.govt.nz
SUMMARY:Council - 30 June 2025
DESCRIPTION:This was a back up day for the Adoption of the Long Term Plan.  No longer required as the LTP was adopted on 25 June 2025 – cancelled due to lack of business.
URL:https://swdc.govt.nz/meeting/council-30-june-2025/
LOCATION:Supper Room\, Waihinga Centre\, Texas Street\, Martinborough
CATEGORIES:Council
END:VEVENT
END:VCALENDAR