BEGIN:VCALENDAR
VERSION:2.0
PRODID:-//SWDC - ECPv6.15.17.1//NONSGML v1.0//EN
CALSCALE:GREGORIAN
METHOD:PUBLISH
X-WR-CALNAME:SWDC
X-ORIGINAL-URL:https://swdc.govt.nz
X-WR-CALDESC:Events for SWDC
REFRESH-INTERVAL;VALUE=DURATION:PT1H
X-Robots-Tag:noindex
X-PUBLISHED-TTL:PT1H
BEGIN:VTIMEZONE
TZID:Pacific/Auckland
BEGIN:STANDARD
TZOFFSETFROM:+1300
TZOFFSETTO:+1200
TZNAME:NZST
DTSTART:20250405T140000
END:STANDARD
BEGIN:DAYLIGHT
TZOFFSETFROM:+1200
TZOFFSETTO:+1300
TZNAME:NZDT
DTSTART:20250927T140000
END:DAYLIGHT
BEGIN:STANDARD
TZOFFSETFROM:+1300
TZOFFSETTO:+1200
TZNAME:NZST
DTSTART:20260404T140000
END:STANDARD
BEGIN:DAYLIGHT
TZOFFSETFROM:+1200
TZOFFSETTO:+1300
TZNAME:NZDT
DTSTART:20260926T140000
END:DAYLIGHT
BEGIN:STANDARD
TZOFFSETFROM:+1300
TZOFFSETTO:+1200
TZNAME:NZST
DTSTART:20270403T140000
END:STANDARD
BEGIN:DAYLIGHT
TZOFFSETFROM:+1200
TZOFFSETTO:+1300
TZNAME:NZDT
DTSTART:20270925T140000
END:DAYLIGHT
END:VTIMEZONE
BEGIN:VEVENT
DTSTART;TZID=Pacific/Auckland:20260528T133000
DTEND;TZID=Pacific/Auckland:20260528T170000
DTSTAMP:20260425T074229
CREATED:20251127T222353Z
LAST-MODIFIED:20251127T222353Z
UID:69786-1779975000-1779987600@swdc.govt.nz
SUMMARY:Council - 28 May 2026
DESCRIPTION:This meeting will be held in the Supper Room\, Waihinga Centre\, Martinborough. \nPublic participation is welcome. If you wish to speak during the public participation session at any meetings\, please phone 06 306 9611 at least 24 hours prior to the meeting or email enquiries@swdc.govt.nz. \nIf you have cold and flu symptoms\, please stay at home. \nThe meetings will be livestreamed on YouTube Channel\, where possible.
URL:https://swdc.govt.nz/meeting/council-28-may-2026/
LOCATION:Supper Room\, Waihinga Centre\, Texas Street\, Martinborough
CATEGORIES:Council
END:VEVENT
BEGIN:VEVENT
DTSTART;TZID=Pacific/Auckland:20260625T110000
DTEND;TZID=Pacific/Auckland:20260625T170000
DTSTAMP:20260425T074229
CREATED:20251127T222542Z
LAST-MODIFIED:20260326T032941Z
UID:69788-1782385200-1782406800@swdc.govt.nz
SUMMARY:Council - 25 June 2026
DESCRIPTION:This meeting will be held in the Supper Room\, Waihinga Centre\, Martinborough. \nPublic participation is welcome. If you wish to speak during the public participation session at any meetings\, please phone 06 306 9611 at least 24 hours prior to the meeting or email enquiries@swdc.govt.nz. \nIf you have cold and flu symptoms\, please stay at home. \nThe meetings will be livestreamed on YouTube Channel\, where possible.
URL:https://swdc.govt.nz/meeting/council-25-june-2026/
LOCATION:Supper Room\, Waihinga Centre\, Texas Street\, Martinborough
CATEGORIES:Council
END:VEVENT
BEGIN:VEVENT
DTSTART;TZID=Pacific/Auckland:20260709T133000
DTEND;TZID=Pacific/Auckland:20260709T170000
DTSTAMP:20260425T074229
CREATED:20251127T222650Z
LAST-MODIFIED:20260326T032716Z
UID:69790-1783603800-1783616400@swdc.govt.nz
SUMMARY:Council - 9 July 2026
DESCRIPTION:This meeting has been cancelled due to lack of business.
URL:https://swdc.govt.nz/meeting/council-9-july-2026/
LOCATION:Supper Room\, Waihinga Centre\, Texas Street\, Martinborough
CATEGORIES:Council
END:VEVENT
BEGIN:VEVENT
DTSTART;TZID=Pacific/Auckland:20260730T080000
DTEND;TZID=Pacific/Auckland:20260730T170000
DTSTAMP:20260425T074229
CREATED:20260423T004649Z
LAST-MODIFIED:20260423T004649Z
UID:72508-1785398400-1785430800@swdc.govt.nz
SUMMARY:Council - 30 July 2026
DESCRIPTION:Purpose: To adopt the Statement of Expectations for the water entity. \nThis meeting will be held in the Supper Room\, Waihinga Centre\, Martinborough. \nPublic participation is welcome. If you wish to speak during the public participation session at any meetings\, please phone 06 306 9611 at least 24 hours prior to the meeting or email enquiries@swdc.govt.nz. \nIf you have cold and flu symptoms\, please stay at home. \nThe meetings will be livestreamed on YouTube Channel\, where possible.
URL:https://swdc.govt.nz/meeting/council-30-july-2026/
LOCATION:Supper Room\, Waihinga Centre\, Texas Street\, Martinborough
CATEGORIES:Council
END:VEVENT
BEGIN:VEVENT
DTSTART;TZID=Pacific/Auckland:20260820T133000
DTEND;TZID=Pacific/Auckland:20260820T170000
DTSTAMP:20260425T074229
CREATED:20251127T224954Z
LAST-MODIFIED:20251127T224954Z
UID:69792-1787232600-1787245200@swdc.govt.nz
SUMMARY:Council - 20 August 2026
DESCRIPTION:This meeting will be held in the Supper Room\, Waihinga Centre\, Martinborough. \nPublic participation is welcome. If you wish to speak during the public participation session at any meetings\, please phone 06 306 9611 at least 24 hours prior to the meeting or email enquiries@swdc.govt.nz. \nIf you have cold and flu symptoms\, please stay at home. \nThe meetings will be livestreamed on YouTube Channel\, where possible.
URL:https://swdc.govt.nz/meeting/council-20-august-2026/
LOCATION:Supper Room\, Waihinga Centre\, Texas Street\, Martinborough
CATEGORIES:Council
END:VEVENT
BEGIN:VEVENT
DTSTART;TZID=Pacific/Auckland:20261001T133000
DTEND;TZID=Pacific/Auckland:20261001T170000
DTSTAMP:20260425T074229
CREATED:20251127T225057Z
LAST-MODIFIED:20251127T225057Z
UID:69795-1790861400-1790874000@swdc.govt.nz
SUMMARY:Council - 1 October 2026
DESCRIPTION:This meeting will be held in the Supper Room\, Waihinga Centre\, Martinborough. \nPublic participation is welcome. If you wish to speak during the public participation session at any meetings\, please phone 06 306 9611 at least 24 hours prior to the meeting or email enquiries@swdc.govt.nz. \nIf you have cold and flu symptoms\, please stay at home. \nThe meetings will be livestreamed on YouTube Channel\, where possible.
URL:https://swdc.govt.nz/meeting/council-1-october-2026/
LOCATION:Supper Room\, Waihinga Centre\, Texas Street\, Martinborough
CATEGORIES:Council
END:VEVENT
BEGIN:VEVENT
DTSTART;TZID=Pacific/Auckland:20261029T133000
DTEND;TZID=Pacific/Auckland:20261029T170000
DTSTAMP:20260425T074229
CREATED:20251127T225153Z
LAST-MODIFIED:20251127T225153Z
UID:69797-1793280600-1793293200@swdc.govt.nz
SUMMARY:Council - 29 October 2026
DESCRIPTION:This meeting will be held in the Supper Room\, Waihinga Centre\, Martinborough. \nPublic participation is welcome. If you wish to speak during the public participation session at any meetings\, please phone 06 306 9611 at least 24 hours prior to the meeting or email enquiries@swdc.govt.nz. \nIf you have cold and flu symptoms\, please stay at home. \nThe meetings will be livestreamed on YouTube Channel\, where possible.
URL:https://swdc.govt.nz/meeting/council-29-october-2026/
LOCATION:Supper Room\, Waihinga Centre\, Texas Street\, Martinborough
CATEGORIES:Council
END:VEVENT
BEGIN:VEVENT
DTSTART;TZID=Pacific/Auckland:20261119T133000
DTEND;TZID=Pacific/Auckland:20261119T170000
DTSTAMP:20260425T074229
CREATED:20251127T225328Z
LAST-MODIFIED:20251127T225328Z
UID:69799-1795095000-1795107600@swdc.govt.nz
SUMMARY:Council - 19 November 2026
DESCRIPTION:This meeting will be held in the Supper Room\, Waihinga Centre\, Martinborough. \nPublic participation is welcome. If you wish to speak during the public participation session at any meetings\, please phone 06 306 9611 at least 24 hours prior to the meeting or email enquiries@swdc.govt.nz. \nIf you have cold and flu symptoms\, please stay at home. \nThe meetings will be livestreamed on YouTube Channel\, where possible.
URL:https://swdc.govt.nz/meeting/council-19-november-2026/
LOCATION:Supper Room\, Waihinga Centre\, Texas Street\, Martinborough
CATEGORIES:Council
END:VEVENT
END:VCALENDAR